BEGIN:VCALENDAR
VERSION:2.0
PRODID:-//Rebecca S. Stäter - ECPv6.7.0//NONSGML v1.0//EN
CALSCALE:GREGORIAN
METHOD:PUBLISH
X-WR-CALNAME:Rebecca S. Stäter
X-ORIGINAL-URL:https://rebeccastaeter.de
X-WR-CALDESC:Veranstaltungen für Rebecca S. Stäter
REFRESH-INTERVAL;VALUE=DURATION:PT1H
X-Robots-Tag:noindex
X-PUBLISHED-TTL:PT1H
BEGIN:VTIMEZONE
TZID:Europe/Berlin
BEGIN:DAYLIGHT
TZOFFSETFROM:+0100
TZOFFSETTO:+0200
TZNAME:CEST
DTSTART:20240331T010000
END:DAYLIGHT
BEGIN:STANDARD
TZOFFSETFROM:+0200
TZOFFSETTO:+0100
TZNAME:CET
DTSTART:20241027T010000
END:STANDARD
END:VTIMEZONE
BEGIN:VEVENT
DTSTART;TZID=Europe/Berlin:20241021T190000
DTEND;TZID=Europe/Berlin:20241021T200000
DTSTAMP:20260422T130948
CREATED:20241007T103143Z
LAST-MODIFIED:20241007T103143Z
UID:619-1729537200-1729540800@rebeccastaeter.de
SUMMARY:Debatte mit Rebecca B2+ | Brauchen wir noch Volksparteien?
DESCRIPTION:Worum geht’s?\nWir debattieren zum Thema „Brauchen wir noch Volksparteien?“. Im Voraus bekommt ihr von mir einen Text (Niveau B2/C1) aus der Zeitschrift Deutsch perfekt\, der zwei Standpunkte enthält. Mit diesem Text müsst ihr euch vorbereiten! Während des Events sammeln wir Argumente und führen eine Pro-Kontra-Debatte. \nAgenda\n5 Minuten – Begrüßung \n40 Minuten – Breakout-Session: Ihr werdet in einer Gruppe Argumente sammeln. \n30-40 Minuten – Debatte in der Main-Session. \n5 Minuten – Verabschiedung \nSprachniveau: B2/C1\nWir sprechen ausschließlich Deutsch in diesem Event! Ihr müsst eure Meinung ausdrücken und verteidigen können. Dafür könnt ihr euch hier einige wichtige Worte und Redewendungen anschauen. \nÜber mich\nIch bin selbstständige DaF-Lehrerin und schreibe einen Deutsch-Newsletter. In meiner Freizeit organisiere ich Sprach-Events und bleibe mit euch über eine Facebook-Gruppe in Kontakt. \nDas Event ist voll? Dann sei das nächste Mal schneller oder melde dich bei mir! 😉\nFalls ihr als erstes informiert werden wollt\, wenn ich neue Events veröffentliche\, dann kommt in meine Facebook-Gruppe! \nMelde dich hier an:
URL:https://rebeccastaeter.de/event/debatte-mit-rebecca-b2-brauchen-wir-noch-volksparteien/
LOCATION:Online
CATEGORIES:B2+,Debatte
END:VEVENT
BEGIN:VEVENT
DTSTART;TZID=Europe/Berlin:20241023T190000
DTEND;TZID=Europe/Berlin:20241023T203000
DTSTAMP:20260422T130948
CREATED:20241007T105712Z
LAST-MODIFIED:20241007T105712Z
UID:638-1729710000-1729715400@rebeccastaeter.de
SUMMARY:Plauderabend mit Rebecca A2+ | Die Rosenheim-Cops
DESCRIPTION:Worum geht’s?\nIn diesem Event reden wir über eine deutsche Serie „die Rosenheim-Cops“. Hiervon werdet ihr eine Folge als Hausaufgabe anschauen und wir werden diese Folge dann gemeinsam besprechen. Dazu könnt ihr euch auf diesem Arbeitsblatt Notizen machen. \nSprachniveau: A2+\nWir sprechen ausschließlich Deutsch in diesem Event! Ihr solltet in der Lage sein\, einfache Sätze zu sagen. \nÜber mich\nIch bin selbstständige DaF-Lehrerin und schreibe einen Deutsch-Newsletter. In meiner Freizeit organisiere ich Sprach-Events und bleibe mit euch über eine Facebook-Gruppe in Kontakt. \nDas Event ist voll? Sei das nächste Mal schneller oder melde dich bei mir! 😉\nFalls ihr als erstes informiert werden wollt\, wenn ich neue Events veröffentliche\, dann kommt in meine Facebook-Gruppe! \nMelde dich hier an:
URL:https://rebeccastaeter.de/event/plauderabend-mit-rebecca-a2-die-rosenheim-cops-5/
LOCATION:Online
CATEGORIES:A2+,Plauderabend,Rosenheim-Cops
END:VEVENT
BEGIN:VEVENT
DTSTART;TZID=Europe/Berlin:20241030T190000
DTEND;TZID=Europe/Berlin:20241030T203000
DTSTAMP:20260422T130948
CREATED:20241007T111255Z
LAST-MODIFIED:20241008T041506Z
UID:652-1730314800-1730320200@rebeccastaeter.de
SUMMARY:Plauderabend mit Rebecca A2+ | Halloween in Deutschland
DESCRIPTION:Worum geht’s?\nIn diesem Event sprechen wir über Halloween. \n\nWie feiert ihr Halloween?\nFeiert ihr es überhaupt?\nWie wird Halloween in Deutschland gefeiert?\n…\n\nSprachniveau: A2+\nWir sprechen ausschließlich Deutsch in diesem Event! Ihr solltet in der Lage sein\, einfache Sätze zu sagen. \nÜber mich\nIch bin selbstständige DaF-Lehrerin und schreibe einen Deutsch-Newsletter. In meiner Freizeit organisiere ich Sprach-Events und bleibe mit euch über eine Facebook-Gruppe in Kontakt. \nDas Event ist voll? Sei das nächste Mal schneller oder melde dich bei mir! 😉\nFalls ihr als erstes informiert werden wollt\, wenn ich neue Events veröffentliche\, dann kommt in meine Facebook-Gruppe! \nMelde ich hier an:
URL:https://rebeccastaeter.de/event/plauderabend-mit-rebecca-a2-halloween-in-deutschland/
LOCATION:Online
CATEGORIES:A2+,Plauderabend
END:VEVENT
END:VCALENDAR