BEGIN:VCALENDAR
VERSION:2.0
PRODID:-//Rebecca S. Stäter - ECPv6.7.0//NONSGML v1.0//EN
CALSCALE:GREGORIAN
METHOD:PUBLISH
X-ORIGINAL-URL:https://rebeccastaeter.de
X-WR-CALDESC:Veranstaltungen für Rebecca S. Stäter
REFRESH-INTERVAL;VALUE=DURATION:PT1H
X-Robots-Tag:noindex
X-PUBLISHED-TTL:PT1H
BEGIN:VTIMEZONE
TZID:Europe/Berlin
BEGIN:DAYLIGHT
TZOFFSETFROM:+0100
TZOFFSETTO:+0200
TZNAME:CEST
DTSTART:20240331T010000
END:DAYLIGHT
BEGIN:STANDARD
TZOFFSETFROM:+0200
TZOFFSETTO:+0100
TZNAME:CET
DTSTART:20241027T010000
END:STANDARD
END:VTIMEZONE
BEGIN:VEVENT
DTSTART;TZID=Europe/Berlin:20240701T190000
DTEND;TZID=Europe/Berlin:20240701T200000
DTSTAMP:20260422T171019
CREATED:20240620T134055Z
LAST-MODIFIED:20240701T134546Z
UID:569-1719860400-1719864000@rebeccastaeter.de
SUMMARY:Debatte mit Rebecca B2+ | Studieren zu viele?
DESCRIPTION:Worum geht’s?\nWir debattieren zum Thema „Studieren zu viele?“. Im Voraus bekommt ihr von mir einen Text (Niveau B2/C1) aus der Zeitschrift Deutsch perfekt\, der zwei Standpunkte enthält. Mit diesem Text müsst ihr euch vorbereiten! Während des Events sammeln wir Argumente und führen eine Pro-Kontra-Debatte. \nAgenda\n5 Minuten – Begrüßung \n40 Minuten – Breakout-Session: Ihr werdet in einer Gruppe Argumente sammeln. \n30-40 Minuten – Debatte in der Main-Session. \n5 Minuten – Verabschiedung \nSprachniveau: B2/C1\nWir sprechen ausschließlich Deutsch in diesem Event! Ihr müsst eure Meinung ausdrücken und verteidigen können. Dafür könnt ihr euch hier einige wichtige Worte und Redewendungen anschauen. \nÜber mich\nIch bin selbstständige DaF-Lehrerin und schreibe einen Deutsch-Newsletter. In meiner Freizeit organisiere ich Sprach-Events und bleibe mit euch über eine Facebook-Gruppe in Kontakt. \nDas Event ist voll? Dann sei das nächste Mal schneller oder melde dich bei mir! 😉\nFalls ihr als erstes informiert werden wollt\, wenn ich neue Events veröffentliche\, dann kommt in meine Facebook-Gruppe! \nMelde dich hier an:
URL:https://rebeccastaeter.de/event/debatte-mit-rebecca-b2-studieren-zu-viele/
CATEGORIES:B2+,Debatte
END:VEVENT
BEGIN:VEVENT
DTSTART;TZID=Europe/Berlin:20240703T190000
DTEND;TZID=Europe/Berlin:20240703T203000
DTSTAMP:20260422T171019
CREATED:20230324T183956Z
LAST-MODIFIED:20240620T131933Z
UID:423-1720033200-1720038600@rebeccastaeter.de
SUMMARY:Plauderabend mit Rebecca A2+ | Die Rosenheim-Cops
DESCRIPTION:Worum geht’s?\nIn diesem Event reden wir über eine deutsche Serie „die Rosenheim-Cops“. Hiervon werdet ihr eine Folge als Hausaufgabe anschauen und wir werden diese Folge dann gemeinsam besprechen. \nSprachniveau: A2+\nWir sprechen ausschließlich Deutsch in diesem Event! Ihr solltet in der Lage sein\, einfache Sätze zu sagen. \nÜber mich\nIch bin selbstständige DaF-Lehrerin und schreibe einen Deutsch-Newsletter. In meiner Freizeit organisiere ich Sprach-Events und bleibe mit euch über eine Facebook-Gruppe in Kontakt. \nDas Event ist voll? Sei das nächste Mal schneller oder melde dich bei mir! 😉\nFalls ihr als erstes informiert werden wollt\, wenn ich neue Events veröffentliche\, dann kommt in meine Facebook-Gruppe! \nMelde dich hier an:
URL:https://rebeccastaeter.de/event/plauderabend-mit-rebecca-a2-die-rosenheim-cops-3/
CATEGORIES:A2+,Plauderabend,Rosenheim-Cops
END:VEVENT
BEGIN:VEVENT
DTSTART;TZID=Europe/Berlin:20240710T190000
DTEND;TZID=Europe/Berlin:20240710T203000
DTSTAMP:20260422T171019
CREATED:20230324T184514Z
LAST-MODIFIED:20240620T135556Z
UID:425-1720638000-1720643400@rebeccastaeter.de
SUMMARY:Plauderabend mit Rebecca A2+ | Grammatik-Bootcamp: Konjunktiv 1 & 2
DESCRIPTION:Worum geht’s?\nIn diesem Event werden wir ein wenig die deutsche Grammatik erkunden und unser Wissen festigen. In diesem Event schauen wir uns den Konjunktiv 1 und 2 an. Mit ganz viel Gruppenarbeit und Zeit zum plaudern werden wir diese beiden Grammatik-Themen beleuchten. \nSprachniveau: A2+\nWir sprechen ausschließlich Deutsch in diesem Event! Ihr solltet in der Lage sein\, einfache Sätze zu sagen. \nÜber mich\nIch bin Doktorandin der Didaktik\, selbstständige DaF-Lehrerin und schreibe einen Deutsch-Newsletter. In meiner Freizeit organisiere ich Events auf Duolingo und bleibe mit euch über eine Facebook-Gruppe in Kontakt. \nDas Event ist voll? Sei das nächste Mal schneller! 😉\nFalls ihr als erstes informiert werden wollt\, wenn ich neue Events veröffentliche\, dann kommt in meine Facebook-Gruppe! \nMelde ich hier an:
URL:https://rebeccastaeter.de/event/plauderabend-mit-rebecca-a2-grammatik-bootcamp-konjunktiv/
CATEGORIES:A2+,Grammatik-Bootcamp,Plauderabend
END:VEVENT
BEGIN:VEVENT
DTSTART;TZID=Europe/Berlin:20240712T190000
DTEND;TZID=Europe/Berlin:20240712T200000
DTSTAMP:20260422T171019
CREATED:20230324T183620Z
LAST-MODIFIED:20240620T140152Z
UID:419-1720810800-1720814400@rebeccastaeter.de
SUMMARY:Beginner Conversation with Rebecca A0+ | Wir lesen gemeinsam!
DESCRIPTION:What’s this event about?\nTogether we will be learning German reading through a beginner-friendly book meant for A1/A2 which is also a perfect fit for starting to learn German. In the lessons\, we will be discussing new vocabularies and go through the text\, work on our pronounciation and work on some tasks. \nLanguage Level: A0/A1\nSo\, there is basically no pre-knowledge required! \nAbout me\nI am a self-employed DaF teacher and write a German Newsletter. In my spare time\, I organize language events and stay in contact with you in my Facebook group. \nThere are no seats left? Be faster next time or contact me! 😉\nIf you want to be informed right away when I publish new events join my Facebook group
URL:https://rebeccastaeter.de/event/beginner-conversation-with-rebecca-a0-begegnungen-2/
CATEGORIES:A0+,Beginner Event
END:VEVENT
BEGIN:VEVENT
DTSTART;TZID=Europe/Berlin:20240715T190000
DTEND;TZID=Europe/Berlin:20240715T200000
DTSTAMP:20260422T171019
CREATED:20240620T140329Z
LAST-MODIFIED:20240620T140336Z
UID:577-1721070000-1721073600@rebeccastaeter.de
SUMMARY:Debatte mit Rebecca B2+ | Kurzarmhemd für Männer?
DESCRIPTION:Worum geht’s?\nWir debattieren zum Thema „Kurzarmhemd für Männer?“. Im Voraus bekommt ihr von mir einen Text (Niveau B2/C1) aus der Zeitschrift Deutsch perfekt\, der zwei Standpunkte enthält. Mit diesem Text müsst ihr euch vorbereiten! Während des Events sammeln wir Argumente und führen eine Pro-Kontra-Debatte. \nAgenda\n5 Minuten – Begrüßung \n40 Minuten – Breakout-Session: Ihr werdet in einer Gruppe Argumente sammeln. \n30-40 Minuten – Debatte in der Main-Session. \n5 Minuten – Verabschiedung \nSprachniveau: B2/C1\nWir sprechen ausschließlich Deutsch in diesem Event! Ihr müsst eure Meinung ausdrücken und verteidigen können. Dafür könnt ihr euch hier einige wichtige Worte und Redewendungen anschauen. \nÜber mich\nIch bin selbstständige DaF-Lehrerin und schreibe einen Deutsch-Newsletter. In meiner Freizeit organisiere ich Sprach-Events und bleibe mit euch über eine Facebook-Gruppe in Kontakt. \nDas Event ist voll? Dann sei das nächste Mal schneller oder melde dich bei mir! 😉\nFalls ihr als erstes informiert werden wollt\, wenn ich neue Events veröffentliche\, dann kommt in meine Facebook-Gruppe! \nMelde dich hier an:
URL:https://rebeccastaeter.de/event/debatte-mit-rebecca-b2-kurzarmhemd-fuer-maenner/
CATEGORIES:B2+,Debatte
END:VEVENT
BEGIN:VEVENT
DTSTART;TZID=Europe/Berlin:20240724T190000
DTEND;TZID=Europe/Berlin:20240724T203000
DTSTAMP:20260422T171019
CREATED:20240620T140605Z
LAST-MODIFIED:20240715T160055Z
UID:579-1721847600-1721853000@rebeccastaeter.de
SUMMARY:Plauderabend mit Rebecca A2+ | Wir lernen Deutschland kennen: Schwarzwald
DESCRIPTION:Worum geht’s?\nIn diesem Event lernen wir den Schwarzwald kennen. Ihr könnt euch schon vorher einen Eindruck über den Schwarzwald gewinnen: \n\nein kurzes Video für einen Einblick.\nein längeres Video für einen tieferen Einblick.\n\nSprachniveau: A2+\nWir sprechen ausschließlich Deutsch in diesem Event! Ihr solltet in der Lage sein\, einfache Sätze zu sagen. \nÜber mich\nIch bin selbstständige DaF-Lehrerin und schreibe einen Deutsch-Newsletter. In meiner Freizeit organisiere ich Sprach-Events und bleibe mit euch über eine Facebook-Gruppe in Kontakt. \nDas Event ist voll? Sei das nächste Mal schneller oder melde dich bei mir! 😉\nFalls ihr als erstes informiert werden wollt\, wenn ich neue Events veröffentliche\, dann kommt in meine Facebook-Gruppe! \nMelde ich hier an:
URL:https://rebeccastaeter.de/event/plauderabend-mit-rebecca-a2-schwarzwald/
CATEGORIES:A2+,Plauderabend,Wir lernen Deutschland kennen
END:VEVENT
BEGIN:VEVENT
DTSTART;TZID=Europe/Berlin:20240726T190000
DTEND;TZID=Europe/Berlin:20240726T200000
DTSTAMP:20260422T171019
CREATED:20240620T141355Z
LAST-MODIFIED:20240620T141355Z
UID:584-1722020400-1722024000@rebeccastaeter.de
SUMMARY:Beginner Conversation with Rebecca A0+ | Wir lesen gemeinsam!
DESCRIPTION:What’s this event about?\nTogether we will be learning German reading through a beginner-friendly book meant for A1/A2 which is also a perfect fit for starting to learn German. In the lessons\, we will be discussing new vocabularies and go through the text\, work on our pronounciation and work on some tasks. \nLanguage Level: A0/A1\nSo\, there is basically no pre-knowledge required! \nAbout me\nI am a self-employed DaF teacher and write a German Newsletter. In my spare time\, I organize language events and stay in contact with you in my Facebook group. \nThere are no seats left? Be faster next time or contact me! 😉\nIf you want to be informed right away when I publish new events join my Facebook group
URL:https://rebeccastaeter.de/event/beginner-conversation-with-rebecca-a0-wir-lesen-gemeinsam/
CATEGORIES:A0+,Beginner Event
END:VEVENT
END:VCALENDAR