BEGIN:VCALENDAR
VERSION:2.0
PRODID:-//Rebecca S. Stäter - ECPv6.7.0//NONSGML v1.0//EN
CALSCALE:GREGORIAN
METHOD:PUBLISH
X-WR-CALNAME:Rebecca S. Stäter
X-ORIGINAL-URL:https://rebeccastaeter.de
X-WR-CALDESC:Veranstaltungen für Rebecca S. Stäter
REFRESH-INTERVAL;VALUE=DURATION:PT1H
X-Robots-Tag:noindex
X-PUBLISHED-TTL:PT1H
BEGIN:VTIMEZONE
TZID:Europe/Berlin
BEGIN:DAYLIGHT
TZOFFSETFROM:+0100
TZOFFSETTO:+0200
TZNAME:CEST
DTSTART:20230326T010000
END:DAYLIGHT
BEGIN:STANDARD
TZOFFSETFROM:+0200
TZOFFSETTO:+0100
TZNAME:CET
DTSTART:20231029T010000
END:STANDARD
END:VTIMEZONE
BEGIN:VEVENT
DTSTART;TZID=Europe/Berlin:20230203T180000
DTEND;TZID=Europe/Berlin:20230203T190000
DTSTAMP:20260423T162302
CREATED:20230110T160155Z
LAST-MODIFIED:20230110T161829Z
UID:369-1675447200-1675450800@rebeccastaeter.de
SUMMARY:Beginner Conversation with Rebecca A0+ | Season 2
DESCRIPTION:What’s this event about?\nTogether we will be learning German. In the lesson\, we will cover new words and a bit of grammar. \nLanguage Level: A0/A1\nSo\, there is basically no pre-knowledge required! \nEpisodes of this Season:\n\n20.01. – Sportveranstaltung\n03.02. – Computer\, Smartphone & Co.\n17.02. – Berufe\n03.03. – Freizeit\n17.03. – Nach dem Weg fragen\n\nAbout me\nI am a self-employed DaF teacher and write a German Newsletter. In my spare time\, I organize Duolingo events and stay in contact with you in my Facebook group. \nThere are no seats left? Be faster next time! 😉\nIf you want to be informed right away when I publish new events join my Facebook group
URL:https://rebeccastaeter.de/event/beginner-conversation-with-rebecca-a0-season-2-2/
CATEGORIES:A0+,Beginner Event
END:VEVENT
BEGIN:VEVENT
DTSTART;TZID=Europe/Berlin:20230206T180000
DTEND;TZID=Europe/Berlin:20230206T193000
DTSTAMP:20260423T162302
CREATED:20230124T080222Z
LAST-MODIFIED:20230124T080255Z
UID:394-1675706400-1675711800@rebeccastaeter.de
SUMMARY:Debatte mit Rebecca B2+ | Wahlrecht ab 16 Jahren?
DESCRIPTION:Worum geht’s?\nWir debattieren zum Thema „Wahlrecht ab 16 Jahren?“. Im Voraus bekommt ihr von mir einen Text (Niveau B2/C1) aus der Zeitschrift Deutsch perfekt\, der zwei Standpunkte enthält. Mit diesem Text müsst ihr euch vorbereiten! Während des Events sammeln wir Argumente und führen eine Pro-Kontra-Debatte. \n  \nAgenda\n5 Minuten – Begrüßung \n40 Minuten – Breakout-Session: Ihr werdet in einer Gruppe Argumente sammeln. \n30-40 Minuten – Debatte in der Main-Session. \n5 Minuten – Verabschiedung \n  \nSprachniveau: B2/C1\nWir sprechen ausschließlich Deutsch in diesem Event! Ihr müsst eure Meinung ausdrücken und verteidigen können. \n  \nÜber mich\nIch bin Doktorandin\, selbstständige DaF-Lehrerin und schreibe einen Deutsch-Newsletter. In meiner Freizeit organisiere ich Events auf Duolingo und bleibe mit euch über eine Facebook-Gruppe in Kontakt. \n  \nDas Event ist voll? Dann sei das nächste Mal schneller! 😉\nFalls ihr als erstes informiert werden wollt\, wenn ich neue Events veröffentliche\, dann kommt in meine Facebook-Gruppe! \n  \nMelde dich hier an:
URL:https://rebeccastaeter.de/event/debatte-mit-rebecca-wahlrecht-ab-16-jahren/
CATEGORIES:B2+,Debatte
END:VEVENT
BEGIN:VEVENT
DTSTART;TZID=Europe/Berlin:20230208T180000
DTEND;TZID=Europe/Berlin:20230208T193000
DTSTAMP:20260423T162302
CREATED:20230124T075917Z
LAST-MODIFIED:20230124T075917Z
UID:392-1675879200-1675884600@rebeccastaeter.de
SUMMARY:Plauderabend mit Rebecca A2+ | Geburtstag
DESCRIPTION:Worum geht’s?\nIn diesem Event reden wir über Geburtstage. Was sind Traditionen? Wie feiert man ihn am liebsten? \nSprachniveau: A2+\nWir sprechen ausschließlich Deutsch in diesem Event! Ihr solltet in der Lage sein\, einfache Sätze zu sagen. \nÜber mich\nIch bin Doktorandin der Didaktik\, selbstständige DaF-Lehrerin und schreibe einen Deutsch-Newsletter. In meiner Freizeit organisiere ich Events auf Duolingo und bleibe mit euch über eine Facebook-Gruppe in Kontakt. \nDas Event ist voll? Sei das nächste Mal schneller! 😉\nFalls ihr als erstes informiert werden wollt\, wenn ich neue Events veröffentliche\, dann kommt in meine Facebook-Gruppe! \nMelde ich hier an:
URL:https://rebeccastaeter.de/event/plauderabend-mit-rebecca-a2-geburtstag/
CATEGORIES:A2+,Plauderabend
END:VEVENT
BEGIN:VEVENT
DTSTART;TZID=Europe/Berlin:20230215T180000
DTEND;TZID=Europe/Berlin:20230215T193000
DTSTAMP:20260423T162302
CREATED:20230123T165730Z
LAST-MODIFIED:20230123T165747Z
UID:389-1676484000-1676489400@rebeccastaeter.de
SUMMARY:Plauderabend mit Rebecca A2+ | Die Rosenheim-Cops
DESCRIPTION:Worum geht’s?\nIn diesem Event reden wir über eine deutsche Serie „die Rosenheim-Cops“. Hiervon werdet ihr eine Folge als Hausaufgabe anschauen und wir werden diese Folge dann gemeinsam besprechen. \nSprachniveau: A2+\nWir sprechen ausschließlich Deutsch in diesem Event! Ihr solltet in der Lage sein\, einfache Sätze zu sagen. \nÜber mich\nIch bin Doktorandin der Didaktik\, selbstständige DaF-Lehrerin und schreibe einen Deutsch-Newsletter. In meiner Freizeit organisiere ich Events auf Duolingo und bleibe mit euch über eine Facebook-Gruppe in Kontakt. \nDas Event ist voll? Sei das nächste Mal schneller! 😉\nFalls ihr als erstes informiert werden wollt\, wenn ich neue Events veröffentliche\, dann kommt in meine Facebook-Gruppe! \nMelde ich hier an:
URL:https://rebeccastaeter.de/event/plauderabend-mit-rebecca-a2-die-rosenheim-cops/
CATEGORIES:A2+,Plauderabend,Rosenheim-Cops
END:VEVENT
BEGIN:VEVENT
DTSTART;TZID=Europe/Berlin:20230217T180000
DTEND;TZID=Europe/Berlin:20230217T190000
DTSTAMP:20260423T162302
CREATED:20230110T161141Z
LAST-MODIFIED:20230110T161821Z
UID:374-1676656800-1676660400@rebeccastaeter.de
SUMMARY:Beginner Conversation with Rebecca A0+ | Season 2
DESCRIPTION:What’s this event about?\nTogether we will be learning German. In the lesson\, we will cover new words and a bit of grammar. \nLanguage Level: A0/A1\nSo\, there is basically no pre-knowledge required! \nEpisodes of this Season:\n\n20.01. – Sportveranstaltung\n03.02. – Computer\, Smartphone & Co.\n17.02. – Berufe\n03.03. – Freizeit\n17.03. – Nach dem Weg fragen\n\nAbout me\nI am a self-employed DaF teacher and write a German Newsletter. In my spare time\, I organize Duolingo events and stay in contact with you in my Facebook group. \nThere are no seats left? Be faster next time! 😉\nIf you want to be informed right away when I publish new events join my Facebook group
URL:https://rebeccastaeter.de/event/beginner-conversation-with-rebecca-a0-season-2-3/
CATEGORIES:A0+,Beginner Event
END:VEVENT
BEGIN:VEVENT
DTSTART;TZID=Europe/Berlin:20230220T180000
DTEND;TZID=Europe/Berlin:20230220T193000
DTSTAMP:20260423T162302
CREATED:20230124T080412Z
LAST-MODIFIED:20230124T081131Z
UID:396-1676916000-1676921400@rebeccastaeter.de
SUMMARY:Debatte mit Rebecca B2+ | Mehr Kameras an öffentlichen Plätzen?
DESCRIPTION:Worum geht’s?\nWir debattieren zum Thema „Mehr Kameras an öffentlichen Plätzen?“. Im Voraus bekommt ihr von mir einen Text (Niveau B2/C1) aus der Zeitschrift Deutsch perfekt\, der zwei Standpunkte enthält. Mit diesem Text müsst ihr euch vorbereiten! Während des Events sammeln wir Argumente und führen eine Pro-Kontra-Debatte. \n  \nAgenda\n5 Minuten – Begrüßung \n40 Minuten – Breakout-Session: Ihr werdet in einer Gruppe Argumente sammeln. \n30-40 Minuten – Debatte in der Main-Session. \n5 Minuten – Verabschiedung \n  \nSprachniveau: B2/C1\nWir sprechen ausschließlich Deutsch in diesem Event! Ihr müsst eure Meinung ausdrücken und verteidigen können. \n  \nÜber mich\nIch bin Doktorandin\, selbstständige DaF-Lehrerin und schreibe einen Deutsch-Newsletter. In meiner Freizeit organisiere ich Events auf Duolingo und bleibe mit euch über eine Facebook-Gruppe in Kontakt. \n  \nDas Event ist voll? Dann sei das nächste Mal schneller! 😉\nFalls ihr als erstes informiert werden wollt\, wenn ich neue Events veröffentliche\, dann kommt in meine Facebook-Gruppe! \n  \nMelde dich hier an:
URL:https://rebeccastaeter.de/event/debatte-mit-rebecca-b2-mehr-kameras-an-oeffentlichen-plaetzen/
CATEGORIES:B2+,Debatte
END:VEVENT
END:VCALENDAR