BEGIN:VCALENDAR
VERSION:2.0
PRODID:-//Rebecca S. Stäter - ECPv6.7.0//NONSGML v1.0//EN
CALSCALE:GREGORIAN
METHOD:PUBLISH
X-ORIGINAL-URL:https://rebeccastaeter.de
X-WR-CALDESC:Veranstaltungen für Rebecca S. Stäter
REFRESH-INTERVAL;VALUE=DURATION:PT1H
X-Robots-Tag:noindex
X-PUBLISHED-TTL:PT1H
BEGIN:VTIMEZONE
TZID:Europe/Berlin
BEGIN:DAYLIGHT
TZOFFSETFROM:+0100
TZOFFSETTO:+0200
TZNAME:CEST
DTSTART:20240331T010000
END:DAYLIGHT
BEGIN:STANDARD
TZOFFSETFROM:+0200
TZOFFSETTO:+0100
TZNAME:CET
DTSTART:20241027T010000
END:STANDARD
END:VTIMEZONE
BEGIN:VEVENT
DTSTART;TZID=Europe/Berlin:20241129T190000
DTEND;TZID=Europe/Berlin:20241129T200000
DTSTAMP:20260422T115744
CREATED:20241007T110830Z
LAST-MODIFIED:20241007T110830Z
UID:649-1732906800-1732910400@rebeccastaeter.de
SUMMARY:Beginner Conversation with Rebecca A0+ | Wir lesen gemeinsam!
DESCRIPTION:What’s this event about?\nTogether we will be learning German reading through a beginner-friendly book meant for A1/A2 which is also a perfect fit for starting to learn German. In the lessons\, we will be discussing new vocabularies and go through the text\, work on our pronounciation and work on some tasks. \nLanguage Level: A0/A1\nSo\, there is basically no pre-knowledge required! \nAbout me\nI am a self-employed DaF teacher and write a German Newsletter. In my spare time\, I organize language events and stay in contact with you in my Facebook group. \nThere are no seats left? Be faster next time or contact me! 😉\nIf you want to be informed right away when I publish new events join my Facebook group
URL:https://rebeccastaeter.de/event/beginner-conversation-with-rebecca-a0-wir-lesen-gemeinsam-4/
LOCATION:Online
CATEGORIES:A0+,Beginner Event
END:VEVENT
END:VCALENDAR