BEGIN:VCALENDAR
VERSION:2.0
PRODID:-//Rebecca S. Stäter - ECPv6.7.0//NONSGML v1.0//EN
CALSCALE:GREGORIAN
METHOD:PUBLISH
X-ORIGINAL-URL:https://rebeccastaeter.de
X-WR-CALDESC:Veranstaltungen für Rebecca S. Stäter
REFRESH-INTERVAL;VALUE=DURATION:PT1H
X-Robots-Tag:noindex
X-PUBLISHED-TTL:PT1H
BEGIN:VTIMEZONE
TZID:Europe/Berlin
BEGIN:DAYLIGHT
TZOFFSETFROM:+0100
TZOFFSETTO:+0200
TZNAME:CEST
DTSTART:20240331T010000
END:DAYLIGHT
BEGIN:STANDARD
TZOFFSETFROM:+0200
TZOFFSETTO:+0100
TZNAME:CET
DTSTART:20241027T010000
END:STANDARD
END:VTIMEZONE
BEGIN:VEVENT
DTSTART;TZID=Europe/Berlin:20241127T190000
DTEND;TZID=Europe/Berlin:20241127T203000
DTSTAMP:20260422T115841
CREATED:20241008T042000Z
LAST-MODIFIED:20241008T042000Z
UID:662-1732734000-1732739400@rebeccastaeter.de
SUMMARY:Plauderabend mit Rebecca A2+ | Traditionen im Advent
DESCRIPTION:Worum geht’s?\nIn diesem Event sprechen wir über den Advent. \n\nWie feiert ihr den Advent?\nFeiert ihr es überhaupt?\nWie wird der Advent in Deutschland gefeiert?\nWas ist ein Adventskranz und Adventskalender?\n…\n\nSprachniveau: A2+\nWir sprechen ausschließlich Deutsch in diesem Event! Ihr solltet in der Lage sein\, einfache Sätze zu sagen. \nÜber mich\nIch bin selbstständige DaF-Lehrerin und schreibe einen Deutsch-Newsletter. In meiner Freizeit organisiere ich Sprach-Events und bleibe mit euch über eine Facebook-Gruppe in Kontakt. \nDas Event ist voll? Sei das nächste Mal schneller oder melde dich bei mir! 😉\nFalls ihr als erstes informiert werden wollt\, wenn ich neue Events veröffentliche\, dann kommt in meine Facebook-Gruppe! \nMelde ich hier an:
URL:https://rebeccastaeter.de/event/plauderabend-mit-rebecca-a2-traditionen-im-advent/
LOCATION:Online
CATEGORIES:A2+,Plauderabend
END:VEVENT
END:VCALENDAR