BEGIN:VCALENDAR
VERSION:2.0
PRODID:-//Rebecca S. Stäter - ECPv6.7.0//NONSGML v1.0//EN
CALSCALE:GREGORIAN
METHOD:PUBLISH
X-ORIGINAL-URL:https://rebeccastaeter.de
X-WR-CALDESC:Veranstaltungen für Rebecca S. Stäter
REFRESH-INTERVAL;VALUE=DURATION:PT1H
X-Robots-Tag:noindex
X-PUBLISHED-TTL:PT1H
BEGIN:VTIMEZONE
TZID:Europe/Berlin
BEGIN:DAYLIGHT
TZOFFSETFROM:+0100
TZOFFSETTO:+0200
TZNAME:CEST
DTSTART:20240331T010000
END:DAYLIGHT
BEGIN:STANDARD
TZOFFSETFROM:+0200
TZOFFSETTO:+0100
TZNAME:CET
DTSTART:20241027T010000
END:STANDARD
END:VTIMEZONE
BEGIN:VEVENT
DTSTART;TZID=Europe/Berlin:20241120T190000
DTEND;TZID=Europe/Berlin:20241120T203000
DTSTAMP:20260422T131300
CREATED:20241007T105953Z
LAST-MODIFIED:20241021T092134Z
UID:644-1732129200-1732134600@rebeccastaeter.de
SUMMARY:Plauderabend mit Rebecca A2+ | Die Rosenheim-Cops
DESCRIPTION:Worum geht’s?\nIn diesem Event reden wir über eine deutsche Serie „die Rosenheim-Cops“. Hiervon werdet ihr eine Folge als Hausaufgabe anschauen und wir werden diese Folge dann gemeinsam besprechen. Dazu könnt ihr euch auf diesem Arbeitsblatt Notizen machen. \nSprachniveau: A2+\nWir sprechen ausschließlich Deutsch in diesem Event! Ihr solltet in der Lage sein\, einfache Sätze zu sagen. \nÜber mich\nIch bin selbstständige DaF-Lehrerin und schreibe einen Deutsch-Newsletter. In meiner Freizeit organisiere ich Sprach-Events und bleibe mit euch über eine Facebook-Gruppe in Kontakt. \nDas Event ist voll? Sei das nächste Mal schneller oder melde dich bei mir! 😉\nFalls ihr als erstes informiert werden wollt\, wenn ich neue Events veröffentliche\, dann kommt in meine Facebook-Gruppe! \nMelde dich hier an:
URL:https://rebeccastaeter.de/event/plauderabend-mit-rebecca-a2-die-rosenheim-cops-7/
LOCATION:Online
CATEGORIES:A2+,Plauderabend,Rosenheim-Cops
END:VEVENT
END:VCALENDAR