BEGIN:VCALENDAR
VERSION:2.0
PRODID:-//Rebecca S. Stäter - ECPv6.7.0//NONSGML v1.0//EN
CALSCALE:GREGORIAN
METHOD:PUBLISH
X-ORIGINAL-URL:https://rebeccastaeter.de
X-WR-CALDESC:Veranstaltungen für Rebecca S. Stäter
REFRESH-INTERVAL;VALUE=DURATION:PT1H
X-Robots-Tag:noindex
X-PUBLISHED-TTL:PT1H
BEGIN:VTIMEZONE
TZID:Europe/Berlin
BEGIN:DAYLIGHT
TZOFFSETFROM:+0100
TZOFFSETTO:+0200
TZNAME:CEST
DTSTART:20240331T010000
END:DAYLIGHT
BEGIN:STANDARD
TZOFFSETFROM:+0200
TZOFFSETTO:+0100
TZNAME:CET
DTSTART:20241027T010000
END:STANDARD
END:VTIMEZONE
BEGIN:VEVENT
DTSTART;TZID=Europe/Berlin:20241118T190000
DTEND;TZID=Europe/Berlin:20241118T200000
DTSTAMP:20260422T131239
CREATED:20241007T104905Z
LAST-MODIFIED:20241007T105440Z
UID:629-1731956400-1731960000@rebeccastaeter.de
SUMMARY:Debatte mit Rebecca B2+ | Schluss mit der Wehrpflicht?
DESCRIPTION:Worum geht’s?\nWir debattieren zum Thema „Schluss mit der Wehrpflicht?“. Im Voraus bekommt ihr von mir einen Text (Niveau B2/C1) aus der Zeitschrift Deutsch perfekt\, der zwei Standpunkte enthält. Mit diesem Text müsst ihr euch vorbereiten! Während des Events sammeln wir Argumente und führen eine Pro-Kontra-Debatte. \nAgenda\n5 Minuten – Begrüßung \n40 Minuten – Breakout-Session: Ihr werdet in einer Gruppe Argumente sammeln. \n30-40 Minuten – Debatte in der Main-Session. \n5 Minuten – Verabschiedung \nSprachniveau: B2/C1\nWir sprechen ausschließlich Deutsch in diesem Event! Ihr müsst eure Meinung ausdrücken und verteidigen können. Dafür könnt ihr euch hier einige wichtige Worte und Redewendungen anschauen. \nÜber mich\nIch bin selbstständige DaF-Lehrerin und schreibe einen Deutsch-Newsletter. In meiner Freizeit organisiere ich Sprach-Events und bleibe mit euch über eine Facebook-Gruppe in Kontakt. \nDas Event ist voll? Dann sei das nächste Mal schneller oder melde dich bei mir! 😉\nFalls ihr als erstes informiert werden wollt\, wenn ich neue Events veröffentliche\, dann kommt in meine Facebook-Gruppe! \nMelde dich hier an:
URL:https://rebeccastaeter.de/event/debatte-mit-rebecca-b2-schluss-mit-der-wehrpflicht/
LOCATION:Online
CATEGORIES:B2+,Debatte
END:VEVENT
END:VCALENDAR