BEGIN:VCALENDAR
VERSION:2.0
PRODID:-//Rebecca S. Stäter - ECPv6.7.0//NONSGML v1.0//EN
CALSCALE:GREGORIAN
METHOD:PUBLISH
X-ORIGINAL-URL:https://rebeccastaeter.de
X-WR-CALDESC:Veranstaltungen für Rebecca S. Stäter
REFRESH-INTERVAL;VALUE=DURATION:PT1H
X-Robots-Tag:noindex
X-PUBLISHED-TTL:PT1H
BEGIN:VTIMEZONE
TZID:Europe/Berlin
BEGIN:DAYLIGHT
TZOFFSETFROM:+0100
TZOFFSETTO:+0200
TZNAME:CEST
DTSTART:20240331T010000
END:DAYLIGHT
BEGIN:STANDARD
TZOFFSETFROM:+0200
TZOFFSETTO:+0100
TZNAME:CET
DTSTART:20241027T010000
END:STANDARD
END:VTIMEZONE
BEGIN:VEVENT
DTSTART;TZID=Europe/Berlin:20240626T190000
DTEND;TZID=Europe/Berlin:20240626T203000
DTSTAMP:20260422T194817
CREATED:20240620T133742Z
LAST-MODIFIED:20240620T134118Z
UID:570-1719428400-1719433800@rebeccastaeter.de
SUMMARY:Plauderabend mit Rebecca A2+ | Wir spielen Among Us.
DESCRIPTION:Worum geht’s?\nIn diesem Event spielen wir „Among Us“. Einen ersten Eindruck zu dem Spiel kannst du hier gewinnen. \nDas Spiel könnt ihr kostenlos auf euren iOS– oder Android-Geräten spielen. Für den PC oder Mac könnt ihr es bspw. hier kaufen. \nSprachniveau: A2+\nWir sprechen ausschließlich Deutsch in diesem Event! Ihr solltet in der Lage sein\, einfache Sätze zu sagen. \nÜber mich\nIch bin selbstständige DaF-Lehrerin und schreibe einen Deutsch-Newsletter. In meiner Freizeit organisiere ich Sprach-Events und bleibe mit euch über eine Facebook-Gruppe in Kontakt. \nDas Event ist voll? Sei das nächste Mal schneller oder melde dich bei mir! 😉\nFalls ihr als erstes informiert werden wollt\, wenn ich neue Events veröffentliche\, dann kommt in meine Facebook-Gruppe! \nMelde ich hier an:
URL:https://rebeccastaeter.de/event/plauderabend-mit-rebecca-a2-among-us/
CATEGORIES:A2+,Among Us,Plauderabend
END:VEVENT
END:VCALENDAR